BEGIN:VCALENDAR
VERSION:2.0
PRODID:-//Basic Pitches//BasicpitchesX//EN
CALSCALE:GREGORIAN
METHOD:PUBLISH
BEGIN:VEVENT
UID:ac01711f-633c-4b42-92de-185b6663a621@basicpit.ch
DTSTAMP:20260419T201217Z
DTSTART:20260529T180000Z
DTEND:20260529T200000Z
SUMMARY:PITCH PLEASE! The musical showdown
DESCRIPTION:Url: https://www.basicpit.ch/shows/ac01711f-633c-4b42-92de-185b6663a621\n\nBands get formed on the spot. They play. Some fall apart on stage. One walks away with the title.\n\n**PITCH PLEASE! THE MUSICAL SHOWDOWN** is a fully improvised battle of the bands at Dynamo. Rival groups\, your suggestions\, no setlist\, a live house band ready for anything. Whatever happens it happens ONCE.\n\n**What to expect:**\n\nBands With Big Egos: frontpeople who think they invented music\, bandmates who'll have to live with it.\n\nBigger Songs: power ballads\, breakup bangers\, and at least one chorus you'll catch yourself humming on the tram home.\n\nRivalries That Spiral: stolen lyrics\, dodgy alliances\, the kind of feuds that make Oasis look civil.\n\nTotal Spontaneity: no script\, no setlist\, no safety net. Just the **Basic Pitches** making it up as the spotlight swings.\n\nLeave your good taste at the door. The only thing you can count on is a decent hook and a plot twist you didn't see coming.\n\n📅 Friday\, 29 May\n🍻 Bar opens 19:00\, show starts 20:00\n🎟️ 20 CHF / 15 CHF reduced\n📍 Dynamo\, Werk 21\, 8006 Zürich (underground entrance by the Limmat)\n\n\n
URL:https://www.basicpit.ch/shows/ac01711f-633c-4b42-92de-185b6663a621
LOCATION:Wasserwerkstrasse 21\, 8006 Zürich
END:VEVENT
END:VCALENDAR